BEGIN:VCALENDAR
VERSION:2.0
PRODID:-//Dominicains Avrillé - ECPv6.15.20//NONSGML v1.0//EN
CALSCALE:GREGORIAN
METHOD:PUBLISH
X-WR-CALNAME:Dominicains Avrillé
X-ORIGINAL-URL:https://www.dominicainsavrille.fr
X-WR-CALDESC:Évènements pour Dominicains Avrillé
REFRESH-INTERVAL;VALUE=DURATION:PT1H
X-Robots-Tag:noindex
X-PUBLISHED-TTL:PT1H
BEGIN:VTIMEZONE
TZID:Europe/Paris
BEGIN:DAYLIGHT
TZOFFSETFROM:+0100
TZOFFSETTO:+0200
TZNAME:CEST
DTSTART:20260329T010000
END:DAYLIGHT
BEGIN:STANDARD
TZOFFSETFROM:+0200
TZOFFSETTO:+0100
TZNAME:CET
DTSTART:20261025T010000
END:STANDARD
BEGIN:DAYLIGHT
TZOFFSETFROM:+0100
TZOFFSETTO:+0200
TZNAME:CEST
DTSTART:20270328T010000
END:DAYLIGHT
BEGIN:STANDARD
TZOFFSETFROM:+0200
TZOFFSETTO:+0100
TZNAME:CET
DTSTART:20271031T010000
END:STANDARD
BEGIN:DAYLIGHT
TZOFFSETFROM:+0100
TZOFFSETTO:+0200
TZNAME:CEST
DTSTART:20280326T010000
END:DAYLIGHT
BEGIN:STANDARD
TZOFFSETFROM:+0200
TZOFFSETTO:+0100
TZNAME:CET
DTSTART:20281029T010000
END:STANDARD
END:VTIMEZONE
BEGIN:VEVENT
DTSTART;VALUE=DATE:20270421
DTEND;VALUE=DATE:20270422
DTSTAMP:20260421T042726
CREATED:20250331T184924Z
LAST-MODIFIED:20250402T083740Z
UID:10000616-1808265600-1808351999@www.dominicainsavrille.fr
SUMMARY:Saint Anselme (1033 – 1109)
DESCRIPTION:Évêque\, Docteur de l’Église \nMesse : In medio \nOraison : « Dieu\, qui avez donné à votre peuple le bienheureux Anselme comme ministre du salut éternel\, faites\, nous vous en prions\, que nous ayons pour intercesseur dans le ciel celui qui fut pour nous sur la terre un docteur de vie. » \nDocteur de vie\, Anselme le fut et le demeure par ses exemples et sa doctrine. Moine austère\, archevêque\, intrépide défenseur des droits de l’Église\, au péril même de sa vie\, contre les usurpations du roi d’Angleterre\, Anselme offre à tous les regards une âme qui vit de Dieu. Il a compris l’inanité de la vie purement humaine et la grandeur de la vie surnaturelle\, celle qui vient de Dieu par la grâce et conduit à Dieu pour l’éternité. Aussi sa doctrine est basée sur l’Être divin\, source\, principe et fin de tout être créé. Qui a ce sens de Dieu est dans la vérité absolue. Mais il ne suffit pas de le posséder intellectuellement. Nos belles considérations sur l’Être de Dieu seraient vaines si\, le connaissant à la double lumière de la raison et de la foi\, nous laissions notre volonté aimer et désirer ce qui est contre Dieu. Quand l’esprit est en haut\, en haut doit être le cœur\, sinon il y a discordance dans l’âme. Le cœur doit suivre l’intelligence et monter aussi haut qu’elle. Montée douloureuse souvent\, comme la montée du Calvaire\, car nous sentons en notre chair une autre loi\, la loi de descente\, cet appel d’en bas qui nous harcèle de ses cris. Mais\, douloureuse ou non\, il faut monter quand même. La joie sera grande au sommet\, lorsque\, même après des chutes nombreuses\, nous arriverons purifiés\, essoufflés dans les bras de Dieu. Le repos y sera bon\, qui durera toujours. \nAnselme connut l’épuisement de la montée du Calvaire. Malgré tout\, il monta\, répandant sur sa route la lumière de sa doctrine. Et aujourd’hui encore\, il est pour l’Église un Docteur de vie.
URL:https://www.dominicainsavrille.fr/calendrier/saint-anselme-1033-1109/2027-04-21/
CATEGORIES:Année liturgique dominicaine
END:VEVENT
END:VCALENDAR