BEGIN:VCALENDAR
VERSION:2.0
PRODID:-//Dominicains Avrillé - ECPv6.15.20//NONSGML v1.0//EN
CALSCALE:GREGORIAN
METHOD:PUBLISH
X-WR-CALNAME:Dominicains Avrillé
X-ORIGINAL-URL:https://www.dominicainsavrille.fr
X-WR-CALDESC:Évènements pour Dominicains Avrillé
REFRESH-INTERVAL;VALUE=DURATION:PT1H
X-Robots-Tag:noindex
X-PUBLISHED-TTL:PT1H
BEGIN:VTIMEZONE
TZID:Europe/Paris
BEGIN:DAYLIGHT
TZOFFSETFROM:+0100
TZOFFSETTO:+0200
TZNAME:CEST
DTSTART:20280326T010000
END:DAYLIGHT
BEGIN:STANDARD
TZOFFSETFROM:+0200
TZOFFSETTO:+0100
TZNAME:CET
DTSTART:20281029T010000
END:STANDARD
BEGIN:DAYLIGHT
TZOFFSETFROM:+0100
TZOFFSETTO:+0200
TZNAME:CEST
DTSTART:20290325T010000
END:DAYLIGHT
BEGIN:STANDARD
TZOFFSETFROM:+0200
TZOFFSETTO:+0100
TZNAME:CET
DTSTART:20291028T010000
END:STANDARD
BEGIN:DAYLIGHT
TZOFFSETFROM:+0100
TZOFFSETTO:+0200
TZNAME:CEST
DTSTART:20300331T010000
END:DAYLIGHT
BEGIN:STANDARD
TZOFFSETFROM:+0200
TZOFFSETTO:+0100
TZNAME:CET
DTSTART:20301027T010000
END:STANDARD
END:VTIMEZONE
BEGIN:VEVENT
DTSTART;VALUE=DATE:20290423
DTEND;VALUE=DATE:20290424
DTSTAMP:20260421T234632
CREATED:20250403T094231Z
LAST-MODIFIED:20250404T140620Z
UID:10000628-1871596800-1871683199@www.dominicainsavrille.fr
SUMMARY:Saint Georges († 303)
DESCRIPTION:Martyr \nMesse : Protexisti \nOraison : « Dieu\, qui nous réjouissez par les mérites et l’intercession du bienheureux Georges\, votre martyr\, accordez-nous avec bonté que les bienfaits que nous vous demandons par son entremise\, nous les obtenions par le don de votre grâce. » \nGeorges\, martyr en Cappadoce\, est devenu\, par la dévotion populaire\, comme l’idéal du soldat chrétien\, un chevalier du Christ. De sa vie nous ne savons rien si ce n’est qu’il était soldat et que\, pour rester fidèle à sa foi\, il mourut. C’était au temps de l’empereur Dioclétien\, temps où tout chrétien pouvait être obligé de confesser sa foi. \nDieu ne nous demande pas toujours cet acte héroïque. Mais ce qu’il exige de chaque baptisé\, c’est de vivre conformément à la foi de son baptême. Et c’est encore confesser sa foi que d’en remplir avec fermeté les obligations. Aussi l’Église ne craint pas d’appeler Confesseur\, celui qui\, sans donner son sang par une mort violente\, rend à Dieu le témoignage de sa foi par une vie sainte\, pleine de bonnes œuvres. Ce titre-là nous devons tous le mériter. Et ne croyons pas que ce soit chose tellement facile. Il n’y a pas que le bourreau qui puisse nous ôter la vie. \nLui\, il n’interrompt que la vie humaine\, tandis que nous portons en nous-mêmes des ennemis qui peuvent nous ôter la vie divine et rendre inutile pour nous la mort du Sauveur. Soyons donc prêts pour la lutte\, soyons courageux dans la résistance et\, comme les martyrs\, disons résolument à qui en veut à la vie de Dieu en nous : Non ! Dieu avant tout. \nOn vénère à Rome\, dans une vieille petite église\, près du Palatin\, la tête de saint Georges. L’église est consacrée à sa mémoire\, San Giorgio in velabro.
URL:https://www.dominicainsavrille.fr/calendrier/saint-georges-%e2%80%a0-303/2029-04-23/
CATEGORIES:Année liturgique dominicaine
END:VEVENT
END:VCALENDAR